BEGIN:VCALENDAR
VERSION:2.0
PRODID:-//NAAAP Detroit - ECPv5.3.2.1//NONSGML v1.0//EN
CALSCALE:GREGORIAN
METHOD:PUBLISH
X-WR-CALNAME:NAAAP Detroit
X-ORIGINAL-URL:https://dtw.naaap.org
X-WR-CALDESC:Events for NAAAP Detroit
BEGIN:VTIMEZONE
TZID:UTC
BEGIN:STANDARD
TZOFFSETFROM:+0000
TZOFFSETTO:+0000
TZNAME:UTC
DTSTART:20180101T000000
END:STANDARD
END:VTIMEZONE
BEGIN:VEVENT
DTSTART;TZID=UTC:20180120T090000
DTEND;TZID=UTC:20180120T130000
DTSTAMP:20260424T111036
CREATED:20171231T192041Z
LAST-MODIFIED:20171231T193208Z
UID:23853-1516438800-1516453200@dtw.naaap.org
SUMMARY:180120 - NAAAP Detroit Team Meeting
DESCRIPTION:NAAAP Detroit Team Meeting					Strategic Planning Meeting\nJanuary 20\, 2018\nThe team is already working hard since the Annual Meeting. Jocelyn is diligently planning the Learn & Grow Series\, and Women in NAAAP events\, with input from Jamie.  The first event is about ready to roll.  Sharon has proposed membership network and celebration events and she is making sure communications are going out in a timely manner.  Vince submitted a sponsorship proposal\, and followed up with our 2017 sponsors. Siva provided some valuable venue\, events planning\, and job board ideas. We are also reaching out to other potential partnership organizations so we can collaborate on programs. \nMeeting agenda and location will be followed up! \nSaturday\, January 20\, 2018\n09:00 am – 12:00 pm  Discussion\n12:00 pm – 01:00 pm  Lunch \nLunch will be provided. \nPlease RSVP to confirm your attendance. \n\n\n	\n		Welcome!\n		\n			\n				\n					\n						Free\n					\n					\n				\n			\n\n			\n				\n\nSaturday\, January 20\, 2018\n9:00am-12:00pm   Discussion\n12:00pm-1:00pm   Lunch\nLunch will be provided\nLocation (TBD)\n\n\nATTENDANCE CONFIRMATION IS REQUIRED\n			\n			\n								RSVP YOUR ATTENDANCE
URL:https://dtw.naaap.org/event/180120-naaap-detroit-team-meeting/
CATEGORIES:NAAAP Operational Leadership Team meeting
END:VEVENT
END:VCALENDAR